BEGIN:VCALENDAR
VERSION:2.0
PRODID:-//Mexican Bone Fish Academy - ECPv6.15.13//NONSGML v1.0//EN
CALSCALE:GREGORIAN
METHOD:PUBLISH
X-WR-CALNAME:Mexican Bone Fish Academy
X-ORIGINAL-URL:https://mexicanbonefishacademy.com
X-WR-CALDESC:Events for Mexican Bone Fish Academy
REFRESH-INTERVAL;VALUE=DURATION:PT1H
X-Robots-Tag:noindex
X-PUBLISHED-TTL:PT1H
BEGIN:VTIMEZONE
TZID:America/Mexico_City
BEGIN:STANDARD
TZOFFSETFROM:-0600
TZOFFSETTO:-0600
TZNAME:CST
DTSTART:20250101T000000
END:STANDARD
END:VTIMEZONE
BEGIN:VEVENT
DTSTART;VALUE=DATE:20260101
DTEND;VALUE=DATE:20260702
DTSTAMP:20260419T215615
CREATED:20260103T180653Z
LAST-MODIFIED:20260103T181327Z
UID:27586948-1767225600-1782950399@mexicanbonefishacademy.com
SUMMARY:Campeche & Yucatán High Season
DESCRIPTION:Campeche & Yucatán — High Season\nHigh season in Campeche and Yucatán is defined by movement and opportunity. As conditions align\, coastal systems come alive with migrating fish\, warmer water\, and active tides that shape each day on the water. Mangroves\, river mouths\, and shallow bays create a dynamic setting where anglers are invited to adapt\, observe\, and respond. \nThis is the prime window to pursue tarpon and snook\, while remaining open to unexpected encounters across changing environments. High season here rewards curiosity and patience\, offering a deeper understanding of structure\, timing\, and fish behavior in complex systems. \nMore than a destination\, Campeche & Yucatán during high season function as a living classroom — a place where the MBA philosophy of progression takes form through exploration\, decision-making\, and meaningful time on the water.
URL:https://mexicanbonefishacademy.com/event/campeche-yucatan-high-season/
LOCATION:Campeche & Yucatan\, Campeche City\, Campeche\, Campeche\, 24000\, Mexico
CATEGORIES:Campeche & Yucatan
ATTACH;FMTTYPE=image/png:https://mexicanbonefishacademy.com/wp-content/uploads/2025/11/DJI_0115-scaled-1.png
ORGANIZER;CN="Mexican Bonefish Academy":MAILTO:info@mexcianbonefishacademy.com
END:VEVENT
BEGIN:VEVENT
DTSTART;VALUE=DATE:20260101
DTEND;VALUE=DATE:20260702
DTSTAMP:20260419T215615
CREATED:20260103T175533Z
LAST-MODIFIED:20260103T175533Z
UID:27586943-1767225600-1782950399@mexicanbonefishacademy.com
SUMMARY:Ascencion Bay High Season
DESCRIPTION:Ascension Bay — High Season\nHigh season in Ascension Bay represents the heart of the experience. From late winter through spring\, conditions align to offer consistent weather\, stable tides\, and some of the most productive flats fishing of the year. This is when bonefish numbers peak\, permit opportunities increase\, and anglers can fully engage with the rhythm of the bay. \nDuring this period\, days are long and predictable\, allowing for focused learning\, repetition\, and progression on the water. It is the ideal season for both first-time saltwater anglers building a solid foundation and returning guests refining their skills\, decision-making\, and understanding of the ecosystem. \nHigh season is not just about numbers—it’s about timing. A moment in the calendar when Ascension Bay reveals its full potential\, and the MBA philosophy of Fish. Learn. Share. comes alive through consistent conditions and immersive days on the flats.
URL:https://mexicanbonefishacademy.com/event/ascencion-bay-high-season/
LOCATION:Casa Blanca Fly Fishing Lodge\, Ascencion Bay\, Punta Pajaros\, Quintana Roo\, 77773\, Mexico
CATEGORIES:Ascension Bay
ATTACH;FMTTYPE=image/jpeg:https://mexicanbonefishacademy.com/wp-content/uploads/2025/12/Porter_CasaBlanca_April_2025-434-scaled.jpg
ORGANIZER;CN="Mexican Bonefish Academy":MAILTO:info@mexcianbonefishacademy.com
END:VEVENT
BEGIN:VEVENT
DTSTART;VALUE=DATE:20260101
DTEND;VALUE=DATE:20260702
DTSTAMP:20260419T215615
CREATED:20260103T181200Z
LAST-MODIFIED:20260103T181339Z
UID:27586950-1767225600-1782950399@mexicanbonefishacademy.com
SUMMARY:Pacific Coast High Season
DESCRIPTION:Pacific Coast — High Season\nHigh season on the Pacific Coast is defined by power\, timing\, and movement. As ocean conditions align\, open water and coastal currents create windows of opportunity where preparation and observation become essential. This is a fishery shaped by energy — waves\, tides\, and migrating species constantly in motion. \nDuring this period\, anglers are challenged to expand their understanding of saltwater fly fishing beyond the flats. Success depends on reading conditions\, committing to the moment\, and adapting to an environment that rewards focus and intention. \nHigh season on the Pacific Coast represents the bold edge of the MBA journey — a place where adventure and learning intersect\, and where progression is measured not by comfort\, but by awareness and experience gained on the water.
URL:https://mexicanbonefishacademy.com/event/pacific-coast-high-season/
LOCATION:Punta de Mita Fly Fishing\, Punta de Mita\, Puinta de Mita\, Nayarit\, 63727\, Mexico
CATEGORIES:Pacific Coast
ATTACH;FMTTYPE=image/png:https://mexicanbonefishacademy.com/wp-content/uploads/2025/11/cabecera-ficha-tecnica-punta-mita.png
ORGANIZER;CN="Mexican Bonefish Academy":MAILTO:info@mexcianbonefishacademy.com
END:VEVENT
BEGIN:VEVENT
DTSTART;VALUE=DATE:20261101
DTEND;VALUE=DATE:20270601
DTSTAMP:20260419T215615
CREATED:20260129T174450Z
LAST-MODIFIED:20260129T174535Z
UID:27586975-1793491200-1811807999@mexicanbonefishacademy.com
SUMMARY:Patagonia Chile
DESCRIPTION:Patagonia Chile — Freshwater Progression Week \nA week immersed in wild rivers and vast southern landscapes\, where the focus shifts to reading water\, refining presentation\, and building patience and precision in freshwater systems. This experience is designed as a key step in the MBA Progressive Path\, offering anglers the space\, mentorship\, and rhythm needed to deepen technique\, sharpen awareness\, and reconnect with the essential flow of fly fishing.
URL:https://mexicanbonefishacademy.com/event/patagonia-chile/
LOCATION:Patagonia Chile\, Lago Largo Lodge\, Chile
CATEGORIES:Ascension Bay,Campeche & Yucatan,Patagonia Chie
ATTACH;FMTTYPE=image/jpeg:https://mexicanbonefishacademy.com/wp-content/uploads/2025/12/patagonia-2.jpeg
ORGANIZER;CN="Mexican Bonefish Academy":MAILTO:info@mexcianbonefishacademy.com
END:VEVENT
END:VCALENDAR