BEGIN:VCALENDAR
VERSION:2.0
PRODID:-//Mexican Bone Fish Academy - ECPv6.15.13//NONSGML v1.0//EN
CALSCALE:GREGORIAN
METHOD:PUBLISH
X-ORIGINAL-URL:https://mexicanbonefishacademy.com
X-WR-CALDESC:Events for Mexican Bone Fish Academy
REFRESH-INTERVAL;VALUE=DURATION:PT1H
X-Robots-Tag:noindex
X-PUBLISHED-TTL:PT1H
BEGIN:VTIMEZONE
TZID:America/Mexico_City
BEGIN:STANDARD
TZOFFSETFROM:-0600
TZOFFSETTO:-0600
TZNAME:CST
DTSTART:20250101T000000
END:STANDARD
END:VTIMEZONE
BEGIN:VEVENT
DTSTART;VALUE=DATE:20260101
DTEND;VALUE=DATE:20260702
DTSTAMP:20260419T172505
CREATED:20260103T180653Z
LAST-MODIFIED:20260103T181327Z
UID:27586948-1767225600-1782950399@mexicanbonefishacademy.com
SUMMARY:Campeche & Yucatán High Season
DESCRIPTION:Campeche & Yucatán — High Season\nHigh season in Campeche and Yucatán is defined by movement and opportunity. As conditions align\, coastal systems come alive with migrating fish\, warmer water\, and active tides that shape each day on the water. Mangroves\, river mouths\, and shallow bays create a dynamic setting where anglers are invited to adapt\, observe\, and respond. \nThis is the prime window to pursue tarpon and snook\, while remaining open to unexpected encounters across changing environments. High season here rewards curiosity and patience\, offering a deeper understanding of structure\, timing\, and fish behavior in complex systems. \nMore than a destination\, Campeche & Yucatán during high season function as a living classroom — a place where the MBA philosophy of progression takes form through exploration\, decision-making\, and meaningful time on the water.
URL:https://mexicanbonefishacademy.com/event/campeche-yucatan-high-season/
LOCATION:Campeche & Yucatan\, Campeche City\, Campeche\, Campeche\, 24000\, Mexico
CATEGORIES:Campeche & Yucatan
ATTACH;FMTTYPE=image/png:https://mexicanbonefishacademy.com/wp-content/uploads/2025/11/DJI_0115-scaled-1.png
ORGANIZER;CN="Mexican Bonefish Academy":MAILTO:info@mexcianbonefishacademy.com
END:VEVENT
END:VCALENDAR